Workbook
Name h: SWeRF!$Q$10
Name HH: SWeRF!$Q$11
Name M: Calculations!$W$2
Name n: SWeRF!$Q$7
Name rcs: SWeRF!$M$3
Name rm: SWeRF!$Q$8
Name rs: SWeRF!$J$3
Name S: Calculations!$W$3
Name T: SWeRF!$Q$6

Sheet Guide
F2: =SWeRF!F2 -> Sample…… | G2: =SWeRF!G2 -> Date: | H2: =SWeRF!H2 -> 44137 | I2: Sample | L2: Cryst. Silica cont. | M2: =SWeRF!M2 -> 2 | N2: %
F3: =SWeRF!F3 -> Extra sample information….. | I3: =SWeRF!I3 -> Density = | J3: =SWeRF!J3 -> 4400 | K3: =SWeRF!K3 -> kg/m3 | L3: =SWeRF!L3 -> CS Density = | M3: =SWeRF!M3 -> 2650 | N3: =SWeRF!N3 -> kg/m3
I4: =SWeRF!I4 -> SWeRF = | J4: =SWeRF!J4 -> 17.017601 | K4: =SWeRF!K4 -> % | L4: =SWeRF!L4 -> SWeRFcs = | M4: =SWeRF!M4 -> 0.51913801 | N4: =SWeRF!N4 -> %
B5: D | C5: =SWeRF!C5 -> 50 | D5: =SWeRF!D5 -> 4.1006066 | E5: µm | Q5: Sedimentation parameters
B6: Spec.Surface | C6: =SWeRF!C6 -> 0 | D6: =SWeRF!D6 -> 0.42315454 | E6: m2/g | P6: Temperature of the liquid = | Q6: =SWeRF!Q6 -> 20.5 | R6: °C
C7: =SWeRF!C7 -> Rel.span* | D7: =SWeRF!D7 -> 2.0213391 | P7: Viscosity = | Q7: =SWeRF!Q7 -> 0.9903296 | R7: *10-3 kg/m*s
C8: =SWeRF!C8 -> Diameter | D8: =SWeRF!D8 -> Cum. | P8: Liquid Density = | Q8: =SWeRF!Q8 -> 998.06037 | R8: kg/m3
C9: =SWeRF!C9 -> (µm) | D9: =SWeRF!D9 -> (%) | P9: Sample weight = | Q9: =SWeRF!Q9 -> 2.5 | R9: g
C10: =SWeRF!C10 -> 0.1 | D10: =SWeRF!D10 -> 4.2178546e-06 | F10: Guide for using to the calculation, sedimentation excel sheet. | P10: separated column = | Q10: =SWeRF!Q10 -> 0.1 | R10: m
C11: =SWeRF!C11 -> 0.20553828 | D11: =SWeRF!D11 -> 0.00078673062 | P11: Liquid column = | Q11: =SWeRF!Q11 -> 0.22 | R11: m
F12: Please enter your own data in the cells with this layout. The values in this sheet are only an example.
E13: Notes | P13: Determination of the SWeRFcs of the sample by sedimentation
E14: 1 | F14: Use a cumulative particle size distribution (PSD) and start with the lowest diameter (but not zero). | P14: Time of sedimentation SWeRFcs | Q14: =SWeRF!Q14 -> 0.081805145 | R14: uu:mm
F15: Use the physical diameters. Based on the given density ([5] [6]) the diameters will be converted to aerodynamic diameters. | P15: Supernatant residue (with density of CS) | Q15: =SWeRF!Q15 -> 0.224 | R15: g
F16: A method of analysis of the PSD should be chosen that represents the sample the most accurately with | P16: CS in residue of the supernatant | Q16: =SWeRF!Q16 -> 15 | R16: %
F17: regard to its behaviour in air. | P17: SWeRFcs (sedimentation) | Q17: =SWeRF!Q17 -> 2.9568 | R17: %
E18: 2 | F18: Enter a number (>0 and <100) to calculate a percentage point (e.g. D50)
E19: 3 | F19: Specific surface is calculated using the PSD [1] the density[5] and the assumption particles are spheres. | Q19: data entry cell
E20: 4 | F20: Relative span* is calculated from the PSD. A low span indicates a narrow PSD, while a high span indicates a wide
F21: PSD. *Instead of D50, the geometric mean of D10 and D90 is used in order to prevent the effect of skewness
E22: 5 | F22: Enter the density of the sample.
E23: 6 | F23: Enter the density of the crystalline silica.
E24: 7 | F24: Enter the amount (%) of crystalline silica in the sample (not the residue).
E25: 8 | F25: The SWeRF (of the total sample) is calculated based on EN 481, the PSD [1] and the density of the sample [5]. | P25: Verification:
E26: 9 | F26: The SWeRFcs (the SWeRF of the crystalline silica in the sample) is calculated using the PSD [1] of the sample, | P26: When the size distribution and the sedimentation are correctly done, the
F27: the density of the CS [6] and the content of CS determined in the sample [7]. | P27: difference between the calculated residue and residue recovered by
P28: sedimentation should be small. Please note that when density of the sample
E29: 10 | F29: Enter the viscosity and the density of the fluid that is used for the sedimentation. | P29: is different from the cryst. silica also the time of sedimentation is different.
F30: When water is used the viscosity and density are automatically calculated using the water temperature.
E31: 11 | F31: Enter the weight of the sample. To ensure unhindered sedimentation the volume of solids should be maximum 0.2 % | P31: Comparison between sedimentation and calculated residue
F32: (or e.g. maximum 0.5% for a material with density of 2500 kg/m3) | P32: Time of sedimentation SWeRF | Q32: =SWeRF!Q32 -> 0.065956103 | R32: uu:mm
E33: 12 | F33: Enter the dimensions of the used sedimentation column. Make sure that the column is high enough | P33: Supernatant residue (density of sample) | Q33: =SWeRF!Q33 -> 0.192 | R33: g
F34: to allow for an undisturbed separation of the supernatant (top layer). | P34: SWeRFsed = | Q34: =SWeRF!Q34 -> 16.896 | R34: %
P35: Calc. residue in supernatant = | Q35: =SWeRF!Q35 -> 17.098851 | R35: %
E36: 13 | F36: In order to determine the SWeRFcs (sedimentation), the density of the crystalline silica [6] is used to determine the
F37: time of sedimentation.
E38: 14 | F38: After sedimentation for the required time, the supernatant is removed and the amount of residue determined by
F39: drying. In this residue the concentration of crystalline silica has to be determined and entered here.
E40: 15 | F40: The SWeRFcs is calculated using the amount of residue and the concentration of cs in the residue.
E42: 16 | F42: For the verification the time of sedimentation is calculated using the density [5] of the sample (not the crystalline silica)
E43: 17 | F43: After sedimentation for the required time [16], the supernatant is removed and the amount of residue
F44: determined by drying.
E45: 18 | F45: The SWeRF of the sample as determined by sedimentation is calculated using the above data [17 ] and [12].
E46: 19 | F46: The residue in the supernatant is calculated using the PSD [1], the density of the whole sample [5] and the time of
F47: sedimentation [16].
F48: If the difference with SWeRFsed [18] is too large both methods of PSD and sedimentation should be investigated.
E49: 9&19 | F49: SWeRFcs (calc) [9] and SWeRFcs (Sed) [19] can be different. When this is the case a verification should be done.
F50: When the difference between [18] and [19] is small, this means that the CS does not have the same PSD as the
F51: rest of the sample and SWeRFcs should better be determined using sedimentation.

Sheet SWeRF
F2: Sample…… | G2: Date: | H2: 44137 | I2: Sample | L2: Cryst. Silica cont. | M2: 2 | N2: %
F3: Extra sample information….. | I3: Density = | J3: 4400 | K3: kg/m3 | L3: CS Density = | M3: 2650 | N3: kg/m3
I4: SWeRF = | J4: =Calculations!R111 -> 17.017601 | K4: % | L4: SWeRFcs = | M4: =Calculations!AG111*M2/100 -> 0.51913801 | N4: %
B5: D | C5: 50 | D5: =Calculations!B111 -> 4.1006066 | E5: µm | Q5: Sedimentation parameters
B6: Spec.Surface | D6: =Calculations!J111/rs*1000 -> 0.42315454 | E6: m2/g | P6: Temperature of the liquid = | Q6: 20.5 | R6: °C
B7: Particle size from small (top) to large (bottom). Replace the blue numbers in the yellow cells with your own results. Use only a cumulative size distribution. | C7: Rel.span* | D7: =Calculations!D2 -> 2.0213391 | P7: Viscosity = | Q7: =0.0226*EXP(570/(T+271.15-140))+0.021 -> 0.9903296 | R7: *10-3 kg/m*s
C8: Diameter | D8: Cum. | P8: Liquid Density = | Q8: =0.00001644*T^3-0.006042*T^2+0.02478*T+999.9499 -> 998.06037 | R8: kg/m3
C9: (µm) | D9: (%) | P9: Sample weight = | Q9: 2.5 | R9: g
C10: 0.1 | D10: 4.2178546e-06 | P10: separated column height = | Q10: 0.1 | R10: m
C11: 0.20553828 | D11: 0.00078673062 | P11: Liquid column height= | Q11: 0.22 | R11: m
C12: 0.26241359 | D12: 0.0036588959
C13: 0.32221489 | D13: 0.012149896 | P13: Determination of the SWeRFcs of the sample by sedimentation
C14: 0.38509272 | D14: 0.032203133 | P14: Time of sedimentation SWeRFcs | Q14: =h*18*n/1000/(rcs-rm)/9.81*((SQRT(M3/1000))/0.000006422)^2/3600/24 -> 0.081805145 | R14: uu:mm
C15: 0.45120534 | D15: 0.072685775 | P15: Supernatant residue | Q15: 0.224 | R15: g
C16: 0.52071919 | D16: 0.14551997 | P16: CS in residue of the supernatant | Q16: 15 | R16: %
C17: 0.59380923 | D17: 0.26553926 | P17: SWeRFcs (sedimentation) | Q17: =Q15/Q9*HH/h*Q16 -> 2.9568 | R17: %
C18: 0.67065945 | D18: 0.45010862
C19: 0.75146329 | D19: 0.71855859 | Q19: data entry cell
C20: 0.83642415 | D20: 1.0914872
C21: 0.92575588 | D21: 1.5899818
C22: 1.0196834 | D22: 2.2348083
C23: 1.118443 | D23: 3.0456106
C24: 1.2222834 | D24: 4.0401564
C25: 1.331466 | D25: 5.2336583 | P25: Verification:
C26: 1.4462656 | D26: 6.6381958 | P26: When the size distribution and the sedimentation are correctly done, the
C27: 1.5669711 | D27: 8.2622535 | F27: The black curve (Total) represents the density distribution of | I27: The blue curve (Total) represents the cumulative size | P27: difference between the calculated residue and residue recovered by
C28: 1.6938864 | D28: 10.110388 | F28: all the particles of the sample. | I28: distribution of the sample. | P28: sedimentation should be small. Please note that when density of the sample
C29: 1.827331 | D29: 12.183028 | P29: is different from the cryst. Silica, also the time of sedimentation is different.
C30: 1.9676407 | D30: 14.476412 | F30: The green curve (SWeRF) represents the fine | I30: The green curve (SWeRF) represents the cumulative
C31: 2.1151688 | D31: 16.98265 | F31: fraction in the sample as calculated according to EN 481. | I31: (size weighted) amount of fine fraction particles in the | P31: Comparison between sedimentation and calculated residue
C32: 2.2702866 | D32: 19.689912 | I32: sample. | P32: Time of sedimentation SWeRF | Q32: =h*18*n/1000/((rs-rm)*9.81)*((SQRT(rs/1000))/0.000006422)^2/3600/24 -> 0.065956103 | R32: uu:mm
C33: 2.4333845 | D33: 22.582725 | F33: The red curve (Sedimentation) represents the distribution | I33: The red curve (Sedimentation) represents the cumulative | P33: Supernatant residue | Q33: 0.192 | R33: g
C34: 2.6048732 | D34: 25.64236 | F34: of the particles that remain in the supernatant | I34: amount of the particles that remain in the supernatant | P34: SWeRFsed = | Q34: =Q33/Q9*HH/h*100 -> 16.896 | R34: %
C35: 2.7851842 | D35: 28.847301 | F35: after sedimentation. | I35: after sedimentation. | P35: Calc. residue in supernatant = | Q35: =Calculations!AS111 -> 17.098851 | R35: %
C36: 2.9747715 | D36: 32.173771
C37: 3.1741122 | D37: 35.596295 | F37: Method of size distribution analysis:
C38: 3.3837082 | D38: 39.088285 | F38: Different methods will result in a different size distributions which consequently will result in different results for the SWeRF.
C39: 3.604087 | D39: 42.622628 | F39: It is the responsibility of the user of this document to determine which method represents the sample the most accurately with regard to its
C40: 3.8358034 | D40: 46.172251 | F40: behaviour in air. Use the same sample preparation method for determination of the size distribution as for the sedimentation.
C41: 4.0794406 | D41: 49.710667
C42: 4.3356119 | D42: 53.212463
C43: 4.6049622 | D43: 56.653741
C44: 4.8881694 | D44: 60.012489
C45: 5.1859464 | D45: 63.268888
C46: 5.4990429 | D46: 66.40554
C47: 5.8282468 | D47: 69.407625
C48: 6.1743868 | D48: 72.262988
C49: 6.5383344 | D49: 74.962153
C50: 6.9210054 | D50: 77.498282
C51: 7.3233634 | D51: 79.867068
C52: 7.7464209 | D52: 82.066596
... C109: 150 | D109: 99.99999

Sheet Calculations
C2: R.span* | D2: =(E111-C111)/(SQRT(E111*C111)) -> 2.0213391 | V2: M = | W2: 4.25
C3: R.span | D3: =(E111-C111)/D111 -> 2.0219524 | M3: Density | N3: =rs -> 4400 | V3: S = | W3: 1.5 | AB3: Density CS | AC3: =SWeRF!M3 -> 2650
B4: Physical Diameter | M4: Aerodynamic diameter sample | S4: SWeRF | V4: EN 481 | W4: Probability distribution | AB4: Aerodynamic diameter CS | AH4: SWeRF | AJ4: EN 481 Probability distribution
B5: Dxx | C5: D10 | D5: D50 | E5: D90 | F5: Diameter | G5: Mass | H5: Class | I5: Mass | J5: Spec. | K5: Total | M5: Diameter | N5: Class | O5: Mass | P5: Mass | Q5: Total | R5: SWeRF | S5: SWeRF | U5: Class Diameter | X5: Diameter | AB5: Diameter | AC5: Class | AD5: Mass | AE5: Mass | AF5: Total | AG5: SWeRF | AH5: SWeRF | AN5: Sec. | AO5: =AO6*3600*24 -> 5698.6073 | AQ5: h= | AR5: =h -> 0.1 | AT5: SweRF Sed.
B6: =SWeRF!$C$5 -> 50 | C6: 10 | D6: 50 | E6: 90 | G6: fraction | H6: diameter | I6: fraction | J6: surf. | K6: density | N6: diameter | O6: Fraction | P6: Fraction | Q6: density | R6: Frac. | S6: Cumulative | T6: density | AC6: diameter | AD6: Fraction | AE6: Fraction | AF6: log.density | AG6: Frac. | AH6: Cumulative | AI6: density | AN6: Hours | AO6: =SWeRF!Q32 -> 0.065956103 | AR6: Probability | AT6: Cum. | AU6: density
B7: (%) | C7: (%) | D7: (%) | E7: (%) | G7: cumul. | O7: Cumulative | U7: EI | V7: ER | W7: ER x EI | X7: EI | Y7: ER | Z7: ER x EI | AD7: Cumulative | AJ7: EI | AK7: ER | AL7: ER x EI | AN7: V(m/s) | AO7: Sed.(m) | AP7: Frac. | AQ7: MassFrac. | AR7: Sedimentation | AS7: MFrac.Tot. | AU7: Sedimentation
F8: =IF(G9=0,0,EXP(LN(F10)-(LN(F10)-LN(F9))/(G10-G9)*G10)) -> 0.099612414 | M8: =F8*SQRT(N3/1000) -> 0.20894876 | AB8: =F8*SQRT(AC3/1000) -> 0.16215726
B9: =IF(AND((G9-B$6)*(G8-B$6)<=0,ISNUMBER(SWeRF!C10)),(F8+(B$6-G8)*(F9-F8)/(G9-G8)),0) -> 0 | C9: =IF(AND((G9-C$6)*(G8-C$6)<=0,ISNUMBER(SWeRF!C10)),(F8+(C$6-G8)*(F9-F8)/(G9-G8)),0) -> 0 | D9: =IF(AND((G9-D$6)*(G8-D$6)<=0,ISNUMBER(SWeRF!C10)),(F8+(D$6-G8)*(F9-F8)/(G9-G8)),0) -> 0 | E9: =IF(AND((G9-E$6)*(G8-E$6)<=0,ISNUMBER(SWeRF!C10)),(F8+(E$6-G8)*(F9-F8)/(G9-G8)),0) -> 0 | F9: =IF(ISNUMBER(SWeRF!C10),SWeRF!C10,"") -> 0.1 | G9: =IF(ISNUMBER(SWeRF!D10),SWeRF!D10,G8) -> 4.2178546e-06 | H9: =(F9+F8)/2 -> 0.099806207 | I9: =G9 -> 4.2178546e-06 | J9: =IF(H9=0,0,I9/H9) -> 4.2260443e-05 | K9: =IF(F9=F8,0,I9/(F9-F8)*H9) -> 0.0010861276 | M9: =F9*SQRT(N$3/1000) -> 0.20976177 | N9: =H9*SQRT(N$3/1000) -> 0.20935527 | O9: =G9 -> 4.2178546e-06 | P9: =O9 -> 4.2178546e-06 | Q9: =IF(M9=M8,0,P9/(M9-M8)*N9) -> 0.0010861276 | R9: =W9*P9/100 -> 4.1915294e-06 | S9: =R9 -> 4.1915294e-06 | T9: =IF(F9=F8,0,R9/(F9-F8)*H9) -> 0.0010793486 | U9: =50*(1+EXP(-0.06*N9)) -> 99.375862 | V9: =1-LOGNORMDIST(N9,LN(M),LN(S)) -> 1 | W9: =V9*U9 -> 99.375862 | X9: =50*(1+EXP(-0.06*M9)) -> 99.374658 | Y9: =1-LOGNORMDIST(M9,LN(M),LN(S)) -> 1 | Z9: =Y9*X9 -> 99.374658 | AB9: =F9*SQRT(AC$3/1000) -> 0.16278821 | AC9: =(AB8+AB9)/2 -> 0.16247273 | AD9: =G9 -> 4.2178546e-06 | AE9: =AD9 -> 4.2178546e-06 | AF9: =AE9/(AB9-AB9/SQRT(PI()))*AC9 -> 9.659431e-06 | AG9: =AL9*AE9/100 -> 4.1973959e-06 | AH9: =AG9 -> 4.1973959e-06 | AI9: =IF(F9=F8,0,AG9/(F9-F8)*H9) -> 0.0010808593 | AJ9: =50*(1+EXP(-0.06*AC9)) -> 99.51495 | AK9: =1-LOGNORMDIST(AC9,LN(M),LN(S)) -> 1 | AL9: =AK9*AJ9 -> 99.51495 | AN9: =(H9/1000000)^2*(rs-rm)*9.81/(18*n*0.001) -> 1.8649124e-08 | AO9: =AN9*AO$5 -> 0.00010627404 | AP9: =IF(AO9<h,(h-AO9)/h,0) -> 0.99893726 | AQ9: =I9*AP9*h/HH -> 1.9151691e-06 | AR9: =AP9*100 -> 99.893726 | AS9: =I9*AP9 -> 4.2133721e-06 | AT9: =AS9 -> 4.2133721e-06 | AU9: =AS9/(F9-F9/SQRT(PI()))*H9 -> 9.6491656e-06
B10: =IF(AND((G10-B$6)*(G9-B$6)<=0,ISNUMBER(SWeRF!C11)),(F9+(B$6-G9)*(F10-F9)/(G10-G9)),0) -> 0 | C10: =IF(AND((G10-C$6)*(G9-C$6)<=0,ISNUMBER(SWeRF!C11)),(F9+(C$6-G9)*(F10-F9)/(G10-G9)),0) -> 0 | D10: =IF(AND((G10-D$6)*(G9-D$6)<=0,ISNUMBER(SWeRF!C11)),(F9+(D$6-G9)*(F10-F9)/(G10-G9)),0) -> 0 | E10: =IF(AND((G10-E$6)*(G9-E$6)<=0,ISNUMBER(SWeRF!C11)),(F9+(E$6-G9)*(F10-F9)/(G10-G9)),0) -> 0 | F10: =IF(ISNUMBER(SWeRF!C11),SWeRF!C11,F9) -> 0.20553828 | G10: =IF(ISNUMBER(SWeRF!D11),SWeRF!D11,G9) -> 0.00078673062 | H10: =SQRT(F10*F9) -> 0.14336606 | I10: =G10-G9 -> 0.00078251277 | J10: =IF(H10=0,0,I10/H10) -> 0.0054581451 | K10: =IF(F10=F9,0,I10/(F10-F9)*H10) -> 0.0010629866 | M10: =F10*SQRT(N$3/1000) -> 0.43114073 | N10: =H10*SQRT(N$3/1000) -> 0.30072719 | O10: =G10 -> 0.00078673062 | P10: =O10-O9 -> 0.00078251277 | Q10: =IF(M10=M9,0,P10/(M10-M9)*N10) -> 0.0010629866 | R10: =W10*P10/100 -> 0.00077551639 | S10: =S9+R10 -> 0.00077970792 | T10: =IF(F10=F9,0,R10/(F10-F9)*H10) -> 0.0010534825 | U10: =50*(1+EXP(-0.06*N10)) -> 99.105909 | V10: =1-LOGNORMDIST(N10,LN(M),LN(S)) -> 1 | W10: =V10*U10 -> 99.105909 | X10: =50*(1+EXP(-0.06*M10)) -> 98.723164 | Y10: =1-LOGNORMDIST(M10,LN(M),LN(S)) -> 0.99999999 | Z10: =Y10*X10 -> 98.723163 | AB10: =F10*SQRT(AC$3/1000) -> 0.33459208 | AC10: =SQRT(AB10*AB9) -> 0.23338304 | AD10: =G10 -> 0.00078673062 | AE10: =AD10-AD9 -> 0.00078251277 | AF10: =IF(AB10=AB9,0,AE10/(AB10-AB9)*AC10) -> 0.0010629866 | AG10: =AL10*AE10/100 -> 0.00077707219 | AH10: =AH9+AG10 -> 0.00078126959 | AI10: =IF(F10=F9,0,AG10/(F10-F9)*H10) -> 0.001055596 | AJ10: =50*(1+EXP(-0.06*AC10)) -> 99.30473 | AK10: =1-LOGNORMDIST(AC10,LN(M),LN(S)) -> 1 | AL10: =AK10*AJ10 -> 99.30473 | AN10: =(H10/1000000)^2*(rs-rm)*9.81/(18*n*0.001) -> 3.8480088e-08 | AO10: =AN10*AO$5 -> 0.00021928291 | AP10: =IF(AO10<h,(h-AO10)/h,0) -> 0.99780717 | AQ10: =I10*AP10*h/HH -> 0.00035490766 | AR10: =AP10*100 -> 99.780717 | AS10: =I10*AP10 -> 0.00078079685 | AT10: =AT9+AS10 -> 0.00078501022 | AU10: =IF(F10=F9,0,AS10/(F10-F9)*H10) -> 0.0010606556
B11: =IF(AND((G11-B$6)*(G10-B$6)<=0,ISNUMBER(SWeRF!C12)),(F10+(B$6-G10)*(F11-F10)/(G11-G10)),0) -> 0 | C11: =IF(AND((G11-C$6)*(G10-C$6)<=0,ISNUMBER(SWeRF!C12)),(F10+(C$6-G10)*(F11-F10)/(G11-G10)),0) -> 0 | D11: =IF(AND((G11-D$6)*(G10-D$6)<=0,ISNUMBER(SWeRF!C12)),(F10+(D$6-G10)*(F11-F10)/(G11-G10)),0) -> 0 | E11: =IF(AND((G11-E$6)*(G10-E$6)<=0,ISNUMBER(SWeRF!C12)),(F10+(E$6-G10)*(F11-F10)/(G11-G10)),0) -> 0 | F11: =IF(ISNUMBER(SWeRF!C12),SWeRF!C12,F10) -> 0.26241359 | G11: =IF(ISNUMBER(SWeRF!D12),SWeRF!D12,G10) -> 0.0036588959 | H11: =SQRT(F11*F10) -> 0.23224133 | I11: =G11-G10 -> 0.0028721652 | J11: =IF(H11=0,0,I11/H11) -> 0.012367158 | K11: =IF(F11=F10,0,I11/(F11-F10)*H11) -> 0.011728033 | M11: =F11*SQRT(N$3/1000) -> 0.55044338 | N11: =H11*SQRT(N$3/1000) -> 0.48715353 | O11: =G11 -> 0.0036588959 | P11: =O11-O10 -> 0.0028721652 | Q11: =IF(M11=M10,0,P11/(M11-M10)*N11) -> 0.011728033 | R11: =W11*P11/100 -> 0.0028307971 | S11: =S10+R11 -> 0.003610505 | T11: =IF(F11=F10,0,R11/(F11-F10)*H11) -> 0.011559113 | U11: =50*(1+EXP(-0.06*N11)) -> 98.559691 | V11: =1-LOGNORMDIST(N11,LN(M),LN(S)) -> 0.99999995 | W11: =V11*U11 -> 98.559687 | X11: =50*(1+EXP(-0.06*M11)) -> 98.375641 | Y11: =1-LOGNORMDIST(M11,LN(M),LN(S)) -> 0.99999977 | Z11: =Y11*X11 -> 98.375618 | AB11: =F11*SQRT(AC$3/1000) -> 0.42717837 | AC11: =SQRT(AB11*AB10) -> 0.3780615 | AD11: =G11 -> 0.0036588959 | AE11: =AD11-AD10 -> 0.0028721652 | AF11: =IF(AB11=AB10,0,AE11/(AB11-AB10)*AC11) -> 0.011728033 | AG11: =AL11*AE11/100 -> 0.0028399563 | AH11: =AH10+AG11 -> 0.0036212259 | AI11: =IF(F11=F10,0,AG11/(F11-F10)*H11) -> 0.011596513 | AJ11: =50*(1+EXP(-0.06*AC11)) -> 98.878583 | AK11: =1-LOGNORMDIST(AC11,LN(M),LN(S)) -> 1 | AL11: =AK11*AJ11 -> 98.878582 | AN11: =(H11/1000000)^2*(rs-rm)*9.81/(18*n*0.001) -> 1.0097698e-07 | AO11: =AN11*AO$5 -> 0.00057542815 | AP11: =IF(AO11<h,(h-AO11)/h,0) -> 0.99424572 | AQ11: =I11*AP11*h/HH -> 0.0012980173 | AR11: =AP11*100 -> 99.424572 | AS11: =I11*AP11 -> 0.002855638 | AT11: =AT10+AS11 -> 0.0036406482 | AU11: =IF(F11=F10,0,AS11/(F11-F10)*H11) -> 0.011660547
B12: =IF(AND((G12-B$6)*(G11-B$6)<=0,ISNUMBER(SWeRF!C13)),(F11+(B$6-G11)*(F12-F11)/(G12-G11)),0) -> 0 | C12: =IF(AND((G12-C$6)*(G11-C$6)<=0,ISNUMBER(SWeRF!C13)),(F11+(C$6-G11)*(F12-F11)/(G12-G11)),0) -> 0 | D12: =IF(AND((G12-D$6)*(G11-D$6)<=0,ISNUMBER(SWeRF!C13)),(F11+(D$6-G11)*(F12-F11)/(G12-G11)),0) -> 0 | E12: =IF(AND((G12-E$6)*(G11-E$6)<=0,ISNUMBER(SWeRF!C13)),(F11+(E$6-G11)*(F12-F11)/(G12-G11)),0) -> 0 | F12: =IF(ISNUMBER(SWeRF!C13),SWeRF!C13,F11) -> 0.32221489 | G12: =IF(ISNUMBER(SWeRF!D13),SWeRF!D13,G11) -> 0.012149896 | H12: =SQRT(F12*F11) -> 0.29078096 | I12: =G12-G11 -> 0.0084909999 | J12: =IF(H12=0,0,I12/H12) -> 0.029200674 | K12: =IF(F12=F11,0,I12/(F12-F11)*H12) -> 0.041287079 | M12: =F12*SQRT(N$3/1000) -> 0.67588365 | N12: =H12*SQRT(N$3/1000) -> 0.60994728 | O12: =G12 -> 0.012149896 | P12: =O12-O11 -> 0.0084909999 | Q12: =IF(M12=M11,0,P12/(M12-M11)*N12) -> 0.041287079 | R12: =W12*P12/100 -> 0.0083384297 | S12: =S11+R12 -> 0.011948935 | T12: =IF(F12=F11,0,R12/(F12-F11)*H12) -> 0.040545213 | U12: =50*(1+EXP(-0.06*N12)) -> 98.203237 | V12: =1-LOGNORMDIST(N12,LN(M),LN(S)) -> 0.99999916 | W12: =V12*U12 -> 98.203154 | X12: =50*(1+EXP(-0.06*M12)) -> 98.012913 | Y12: =1-LOGNORMDIST(M12,LN(M),LN(S)) -> 0.99999712 | Z12: =Y12*X12 -> 98.01263 | AB12: =F12*SQRT(AC$3/1000) -> 0.52452784 | AC12: =SQRT(AB12*AB11) -> 0.4733571 | AD12: =G12 -> 0.012149896 | AE12: =AD12-AD11 -> 0.0084909999 | AF12: =IF(AB12=AB11,0,AE12/(AB12-AB11)*AC12) -> 0.041287079 | AG12: =AL12*AE12/100 -> 0.0083721176 | AH12: =AH11+AG12 -> 0.011993343 | AI12: =IF(F12=F11,0,AG12/(F12-F11)*H12) -> 0.040709019 | AJ12: =50*(1+EXP(-0.06*AC12)) -> 98.599905 | AK12: =1-LOGNORMDIST(AC12,LN(M),LN(S)) -> 0.99999997 | AL12: =AK12*AJ12 -> 98.599902 | AN12: =(H12/1000000)^2*(rs-rm)*9.81/(18*n*0.001) -> 1.5829794e-07 | AO12: =AN12*AO$5 -> 0.0009020778 | AP12: =IF(AO12<h,(h-AO12)/h,0) -> 0.99097922 | AQ12: =I12*AP12*h/HH -> 0.0038247293 | AR12: =AP12*100 -> 99.097922 | AS12: =I12*AP12 -> 0.0084144045 | AT12: =AT11+AS12 -> 0.012055053 | AU12: =IF(F12=F11,0,AS12/(F12-F11)*H12) -> 0.040914637
B13: =IF(AND((G13-B$6)*(G12-B$6)<=0,ISNUMBER(SWeRF!C14)),(F12+(B$6-G12)*(F13-F12)/(G13-G12)),0) -> 0 | C13: =IF(AND((G13-C$6)*(G12-C$6)<=0,ISNUMBER(SWeRF!C14)),(F12+(C$6-G12)*(F13-F12)/(G13-G12)),0) -> 0 | D13: =IF(AND((G13-D$6)*(G12-D$6)<=0,ISNUMBER(SWeRF!C14)),(F12+(D$6-G12)*(F13-F12)/(G13-G12)),0) -> 0 | E13: =IF(AND((G13-E$6)*(G12-E$6)<=0,ISNUMBER(SWeRF!C14)),(F12+(E$6-G12)*(F13-F12)/(G13-G12)),0) -> 0 | F13: =IF(ISNUMBER(SWeRF!C14),SWeRF!C14,F12) -> 0.38509272 | G13: =IF(ISNUMBER(SWeRF!D14),SWeRF!D14,G12) -> 0.032203133 | H13: =SQRT(F13*F12) -> 0.35225361 | I13: =G13-G12 -> 0.020053238 | J13: =IF(H13=0,0,I13/H13) -> 0.056928409 | K13: =IF(F13=F12,0,I13/(F13-F12)*H13) -> 0.11234207 | M13: =F13*SQRT(N$3/1000) -> 0.8077773 | N13: =H13*SQRT(N$3/1000) -> 0.73889341 | O13: =G13 -> 0.032203133 | P13: =O13-O12 -> 0.020053238 | Q13: =IF(M13=M12,0,P13/(M13-M12)*N13) -> 0.11234207 | R13: =W13*P13/100 -> 0.019618274 | S13: =S12+R13 -> 0.031567209 | T13: =IF(F13=F12,0,R13/(F13-F12)*H13) -> 0.10990532 | U13: =50*(1+EXP(-0.06*N13)) -> 97.831738 | V13: =1-LOGNORMDIST(N13,LN(M),LN(S)) -> 0.99999201 | W13: =V13*U13 -> 97.830957 | X13: =50*(1+EXP(-0.06*M13)) -> 97.634456 | Y13: =1-LOGNORMDIST(M13,LN(M),LN(S)) -> 0.99997889 | Z13: =Y13*X13 -> 97.632395 | AB13: =F13*SQRT(AC$3/1000) -> 0.62688552 | AC13: =SQRT(AB13*AB12) -> 0.57342733 | AD13: =G13 -> 0.032203133 | AE13: =AD13-AD12 -> 0.020053238 | AF13: =IF(AB13=AB12,0,AE13/(AB13-AB12)*AC13) -> 0.11234207 | AG13: =AL13*AE13/100 -> 0.019714125 | AH13: =AH12+AG13 -> 0.031707468 | AI13: =IF(F13=F12,0,AG13/(F13-F12)*H13) -> 0.11044229 | AJ13: =50*(1+EXP(-0.06*AC13)) -> 98.308975 | AK13: =1-LOGNORMDIST(AC13,LN(M),LN(S)) -> 0.99999961 | AL13: =AK13*AJ13 -> 98.308937 | AN13: =(H13/1000000)^2*(rs-rm)*9.81/(18*n*0.001) -> 2.323027e-07 | AO13: =AN13*AO$5 -> 0.0013238018 | AP13: =IF(AO13<h,(h-AO13)/h,0) -> 0.98676198 | AQ13: =I13*AP13*h/HH -> 0.0089944421 | AR13: =AP13*100 -> 98.676198 | AS13: =I13*AP13 -> 0.019787773 | AT13: =AT12+AS13 -> 0.031842825 | AU13: =IF(F13=F12,0,AS13/(F13-F12)*H13) -> 0.11085488
B14: =IF(AND((G14-B$6)*(G13-B$6)<=0,ISNUMBER(SWeRF!C15)),(F13+(B$6-G13)*(F14-F13)/(G14-G13)),0) -> 0 | C14: =IF(AND((G14-C$6)*(G13-C$6)<=0,ISNUMBER(SWeRF!C15)),(F13+(C$6-G13)*(F14-F13)/(G14-G13)),0) -> 0 | D14: =IF(AND((G14-D$6)*(G13-D$6)<=0,ISNUMBER(SWeRF!C15)),(F13+(D$6-G13)*(F14-F13)/(G14-G13)),0) -> 0 | E14: =IF(AND((G14-E$6)*(G13-E$6)<=0,ISNUMBER(SWeRF!C15)),(F13+(E$6-G13)*(F14-F13)/(G14-G13)),0) -> 0 | F14: =IF(ISNUMBER(SWeRF!C15),SWeRF!C15,F13) -> 0.45120534 | G14: =IF(ISNUMBER(SWeRF!D15),SWeRF!D15,G13) -> 0.072685775 | H14: =SQRT(F14*F13) -> 0.41684037 | I14: =G14-G13 -> 0.040482642 | J14: =IF(H14=0,0,I14/H14) -> 0.097117853 | K14: =IF(F14=F13,0,I14/(F14-F13)*H14) -> 0.2552432 | M14: =F14*SQRT(N$3/1000) -> 0.94645632 | N14: =H14*SQRT(N$3/1000) -> 0.87437173 | O14: =G14 -> 0.072685775 | P14: =O14-O13 -> 0.040482642 | Q14: =IF(M14=M13,0,P14/(M14-M13)*N14) -> 0.2552432 | R14: =W14*P14/100 -> 0.039446209 | S14: =S13+R14 -> 0.071013418 | T14: =IF(F14=F13,0,R14/(F14-F13)*H14) -> 0.2487085 | U14: =50*(1+EXP(-0.06*N14)) -> 97.444504 | V14: =1-LOGNORMDIST(N14,LN(M),LN(S)) -> 0.99995183 | W14: =V14*U14 -> 97.439811 | X14: =50*(1+EXP(-0.06*M14)) -> 97.239747 | Y14: =1-LOGNORMDIST(M14,LN(M),LN(S)) -> 0.999894 | Z14: =Y14*X14 -> 97.229439 | AB14: =F14*SQRT(AC$3/1000) -> 0.73450909 | AC14: =SQRT(AB14*AB13) -> 0.67856696 | AD14: =G14 -> 0.072685775 | AE14: =AD14-AD13 -> 0.040482642 | AF14: =IF(AB14=AB13,0,AE14/(AB14-AB13)*AC14) -> 0.2552432 | AG14: =AL14*AE14/100 -> 0.039674967 | AH14: =AH13+AG14 -> 0.071382435 | AI14: =IF(F14=F13,0,AG14/(F14-F13)*H14) -> 0.25015081 | AJ14: =50*(1+EXP(-0.06*AC14)) -> 98.005183 | AK14: =1-LOGNORMDIST(AC14,LN(M),LN(S)) -> 0.99999698 | AL14: =AK14*AJ14 -> 98.004887 | AN14: =(H14/1000000)^2*(rs-rm)*9.81/(18*n*0.001) -> 3.2529912e-07 | AO14: =AN14*AO$5 -> 0.0018537519 | AP14: =IF(AO14<h,(h-AO14)/h,0) -> 0.98146248 | AQ14: =I14*AP14*h/HH -> 0.018060088 | AR14: =AP14*100 -> 98.146248 | AS14: =I14*AP14 -> 0.039732194 | AT14: =AT13+AS14 -> 0.071575019 | AU14: =IF(F14=F13,0,AS14/(F14-F13)*H14) -> 0.25051163
B15: =IF(AND((G15-B$6)*(G14-B$6)<=0,ISNUMBER(SWeRF!C16)),(F14+(B$6-G14)*(F15-F14)/(G15-G14)),0) -> 0 | C15: =IF(AND((G15-C$6)*(G14-C$6)<=0,ISNUMBER(SWeRF!C16)),(F14+(C$6-G14)*(F15-F14)/(G15-G14)),0) -> 0 | D15: =IF(AND((G15-D$6)*(G14-D$6)<=0,ISNUMBER(SWeRF!C16)),(F14+(D$6-G14)*(F15-F14)/(G15-G14)),0) -> 0 | E15: =IF(AND((G15-E$6)*(G14-E$6)<=0,ISNUMBER(SWeRF!C16)),(F14+(E$6-G14)*(F15-F14)/(G15-G14)),0) -> 0 | F15: =IF(ISNUMBER(SWeRF!C16),SWeRF!C16,F14) -> 0.52071919 | G15: =IF(ISNUMBER(SWeRF!D16),SWeRF!D16,G14) -> 0.14551997 | H15: =SQRT(F15*F14) -> 0.48471773 | I15: =G15-G14 -> 0.072834191 | J15: =IF(H15=0,0,I15/H15) -> 0.15026104 | K15: =IF(F15=F14,0,I15/(F15-F14)*H15) -> 0.50787039 | M15: =F15*SQRT(N$3/1000) -> 1.0922698 | N15: =H15*SQRT(N$3/1000) -> 1.0167525 | O15: =G15 -> 0.14551997 | P15: =O15-O14 -> 0.072834191 | Q15: =IF(M15=M14,0,P15/(M15-M14)*N15) -> 0.50787039 | R15: =W15*P15/100 -> 0.070664148 | S15: =S14+R15 -> 0.14167757 | T15: =IF(F15=F14,0,R15/(F15-F14)*H15) -> 0.49273875 | U15: =50*(1+EXP(-0.06*N15)) -> 97.04092 | V15: =1-LOGNORMDIST(N15,LN(M),LN(S)) -> 0.9997903 | W15: =V15*U15 -> 97.02057 | X15: =50*(1+EXP(-0.06*M15)) -> 96.828258 | Y15: =1-LOGNORMDIST(M15,LN(M),LN(S)) -> 0.99959721 | Z15: =Y15*X15 -> 96.789256 | AB15: =F15*SQRT(AC$3/1000) -> 0.84766943 | AC15: =SQRT(AB15*AB14) -> 0.7890633 | AD15: =G15 -> 0.14551997 | AE15: =AD15-AD14 -> 0.072834191 | AF15: =IF(AB15=AB14,0,AE15/(AB15-AB14)*AC15) -> 0.50787039 | AG15: =AL15*AE15/100 -> 0.071149076 | AH15: =AH14+AG15 -> 0.14253151 | AI15: =IF(F15=F14,0,AG15/(F15-F14)*H15) -> 0.49612014 | AJ15: =50*(1+EXP(-0.06*AC15)) -> 97.687972 | AK15: =1-LOGNORMDIST(AC15,LN(M),LN(S)) -> 0.99998358 | AL15: =AK15*AJ15 -> 97.686368 | AN15: =(H15/1000000)^2*(rs-rm)*9.81/(18*n*0.001) -> 4.3986678e-07 | AO15: =AN15*AO$5 -> 0.002506628 | AP15: =IF(AO15<h,(h-AO15)/h,0) -> 0.97493372 | AQ15: =I15*AP15*h/HH -> 0.032276595 | AR15: =AP15*100 -> 97.493372 | AS15: =I15*AP15 -> 0.071008509 | AT15: =AT14+AS15 -> 0.14258353 | AU15: =IF(F15=F14,0,AS15/(F15-F14)*H15) -> 0.49513997
B16: =IF(AND((G16-B$6)*(G15-B$6)<=0,ISNUMBER(SWeRF!C17)),(F15+(B$6-G15)*(F16-F15)/(G16-G15)),0) -> 0 | C16: =IF(AND((G16-C$6)*(G15-C$6)<=0,ISNUMBER(SWeRF!C17)),(F15+(C$6-G15)*(F16-F15)/(G16-G15)),0) -> 0 | D16: =IF(AND((G16-D$6)*(G15-D$6)<=0,ISNUMBER(SWeRF!C17)),(F15+(D$6-G15)*(F16-F15)/(G16-G15)),0) -> 0 | E16: =IF(AND((G16-E$6)*(G15-E$6)<=0,ISNUMBER(SWeRF!C17)),(F15+(E$6-G15)*(F16-F15)/(G16-G15)),0) -> 0 | F16: =IF(ISNUMBER(SWeRF!C17),SWeRF!C17,F15) -> 0.59380923 | G16: =IF(ISNUMBER(SWeRF!D17),SWeRF!D17,G15) -> 0.26553926 | H16: =SQRT(F16*F15) -> 0.55606462 | I16: =G16-G15 -> 0.12001929 | J16: =IF(H16=0,0,I16/H16) -> 0.21583695 | K16: =IF(F16=F15,0,I16/(F16-F15)*H16) -> 0.91309951 | M16: =F16*SQRT(N$3/1000) -> 1.2455848 | N16: =H16*SQRT(N$3/1000) -> 1.166411 | O16: =G16 -> 0.26553926 | P16: =O16-O15 -> 0.12001929 | Q16: =IF(M16=M15,0,P16/(M16-M15)*N16) -> 0.91309951 | R16: =W16*P16/100 -> 0.11588032 | S16: =S15+R16 -> 0.25755789 | T16: =IF(F16=F15,0,R16/(F16-F15)*H16) -> 0.88161047 | U16: =50*(1+EXP(-0.06*N16)) -> 96.620406 | V16: =1-LOGNORMDIST(N16,LN(M),LN(S)) -> 0.99928592 | W16: =V16*U16 -> 96.551412 | X16: =50*(1+EXP(-0.06*M16)) -> 96.399465 | Y16: =1-LOGNORMDIST(M16,LN(M),LN(S)) -> 0.99876474 | Z16: =Y16*X16 -> 96.280386 | AB16: =F16*SQRT(AC$3/1000) -> 0.9666514 | AC16: =SQRT(AB16*AB15) -> 0.90520762 | AD16: =G16 -> 0.26553926 | AE16: =AD16-AD15 -> 0.12001929 | AF16: =IF(AB16=AB15,0,AE16/(AB16-AB15)*AC16) -> 0.91309951 | AG16: =AL16*AE16/100 -> 0.11683896 | AH16: =AH15+AG16 -> 0.25937048 | AI16: =IF(F16=F15,0,AG16/(F16-F15)*H16) -> 0.88890379 | AJ16: =50*(1+EXP(-0.06*AC16)) -> 97.356806 | AK16: =1-LOGNORMDIST(AC16,LN(M),LN(S)) -> 0.99993168 | AL16: =AK16*AJ16 -> 97.350154 | AN16: =(H16/1000000)^2*(rs-rm)*9.81/(18*n*0.001) -> 5.788871e-07 | AO16: =AN16*AO$5 -> 0.0032988503 | AP16: =IF(AO16<h,(h-AO16)/h,0) -> 0.9670115 | AQ16: =I16*AP16*h/HH -> 0.052754561 | AR16: =AP16*100 -> 96.70115 | AS16: =I16*AP16 -> 0.11606003 | AT16: =AT15+AS16 -> 0.25864356 | AU16: =IF(F16=F15,0,AS16/(F16-F15)*H16) -> 0.88297773
B17: =IF(AND((G17-B$6)*(G16-B$6)<=0,ISNUMBER(SWeRF!C18)),(F16+(B$6-G16)*(F17-F16)/(G17-G16)),0) -> 0 | C17: =IF(AND((G17-C$6)*(G16-C$6)<=0,ISNUMBER(SWeRF!C18)),(F16+(C$6-G16)*(F17-F16)/(G17-G16)),0) -> 0 | D17: =IF(AND((G17-D$6)*(G16-D$6)<=0,ISNUMBER(SWeRF!C18)),(F16+(D$6-G16)*(F17-F16)/(G17-G16)),0) -> 0 | E17: =IF(AND((G17-E$6)*(G16-E$6)<=0,ISNUMBER(SWeRF!C18)),(F16+(E$6-G16)*(F17-F16)/(G17-G16)),0) -> 0 | F17: =IF(ISNUMBER(SWeRF!C18),SWeRF!C18,F16) -> 0.67065945 | G17: =IF(ISNUMBER(SWeRF!D18),SWeRF!D18,G16) -> 0.45010862 | H17: =SQRT(F17*F16) -> 0.63106559 | I17: =G17-G16 -> 0.18456936 | J17: =IF(H17=0,0,I17/H17) -> 0.29247255 | K17: =IF(F17=F16,0,I17/(F17-F16)*H17) -> 1.5156154 | M17: =F17*SQRT(N$3/1000) -> 1.4067871 | N17: =H17*SQRT(N$3/1000) -> 1.3237343 | O17: =G17 -> 0.45010862 | P17: =O17-O16 -> 0.18456936 | Q17: =IF(M17=M16,0,P17/(M17-M16)*N17) -> 1.5156154 | R17: =W17*P17/100 -> 0.17716673 | S17: =S16+R17 -> 0.43472462 | T17: =IF(F17=F16,0,R17/(F17-F16)*H17) -> 1.4548277 | U17: =50*(1+EXP(-0.06*N17)) -> 96.182408 | V17: =1-LOGNORMDIST(N17,LN(M),LN(S)) -> 0.99799167 | W17: =V17*U17 -> 95.989242 | X17: =50*(1+EXP(-0.06*M17)) -> 95.952846 | Y17: =1-LOGNORMDIST(M17,LN(M),LN(S)) -> 0.99680213 | Z17: =Y17*X17 -> 95.646001 | AB17: =F17*SQRT(AC$3/1000) -> 1.0917545 | AC17: =SQRT(AB17*AB16) -> 1.0273003 | AD17: =G17 -> 0.45010862 | AE17: =AD17-AD16 -> 0.18456936 | AF17: =IF(AB17=AB16,0,AE17/(AB17-AB16)*AC17) -> 1.5156154 | AG17: =AL17*AE17/100 -> 0.17901155 | AH17: =AH16+AG17 -> 0.43838203 | AI17: =IF(F17=F16,0,AG17/(F17-F16)*H17) -> 1.4699767 | AJ17: =50*(1+EXP(-0.06*AC17)) -> 97.011158 | AK17: =1-LOGNORMDIST(AC17,LN(M),LN(S)) -> 0.99976921 | AL17: =AK17*AJ17 -> 96.988769 | AN17: =(H17/1000000)^2*(rs-rm)*9.81/(18*n*0.001) -> 7.4557672e-07 | AO17: =AN17*AO$5 -> 0.0042487489 | AP17: =IF(AO17<h,(h-AO17)/h,0) -> 0.95751251 | AQ17: =I17*AP17*h/HH -> 0.08033067 | AR17: =AP17*100 -> 95.751251 | AS17: =I17*AP17 -> 0.17672747 | AT17: =AT16+AS17 -> 0.43537104 | AU17: =IF(F17=F16,0,AS17/(F17-F16)*H17) -> 1.4512207
B18: =IF(AND((G18-B$6)*(G17-B$6)<=0,ISNUMBER(SWeRF!C19)),(F17+(B$6-G17)*(F18-F17)/(G18-G17)),0) -> 0 | C18: =IF(AND((G18-C$6)*(G17-C$6)<=0,ISNUMBER(SWeRF!C19)),(F17+(C$6-G17)*(F18-F17)/(G18-G17)),0) -> 0 | D18: =IF(AND((G18-D$6)*(G17-D$6)<=0,ISNUMBER(SWeRF!C19)),(F17+(D$6-G17)*(F18-F17)/(G18-G17)),0) -> 0 | E18: =IF(AND((G18-E$6)*(G17-E$6)<=0,ISNUMBER(SWeRF!C19)),(F17+(E$6-G17)*(F18-F17)/(G18-G17)),0) -> 0 | F18: =IF(ISNUMBER(SWeRF!C19),SWeRF!C19,F17) -> 0.75146329 | G18: =IF(ISNUMBER(SWeRF!D19),SWeRF!D19,G17) -> 0.71855859 | H18: =SQRT(F18*F17) -> 0.70991264 | I18: =G18-G17 -> 0.26844997 | J18: =IF(H18=0,0,I18/H18) -> 0.37814508 | K18: =IF(F18=F17,0,I18/(F18-F17)*H18) -> 2.3585022 | M18: =F18*SQRT(N$3/1000) -> 1.5762827 | N18: =H18*SQRT(N$3/1000) -> 1.4891253 | O18: =G18 -> 0.71855859 | P18: =O18-O17 -> 0.26844997 | Q18: =IF(M18=M17,0,P18/(M18-M17)*N18) -> 2.3585022 | R18: =W18*P18/100 -> 0.25573163 | S18: =S17+R18 -> 0.69045625 | T18: =IF(F18=F17,0,R18/(F18-F17)*H18) -> 2.2467635 | U18: =50*(1+EXP(-0.06*N18)) -> 95.726385 | V18: =1-LOGNORMDIST(N18,LN(M),LN(S)) -> 0.995152 | W18: =V18*U18 -> 95.262304 | X18: =50*(1+EXP(-0.06*M18)) -> 95.487886 | Y18: =1-LOGNORMDIST(M18,LN(M),LN(S)) -> 0.9927815 | Z18: =Y18*X18 -> 94.798606 | AB18: =F18*SQRT(AC$3/1000) -> 1.2232936 | AC18: =SQRT(AB18*AB17) -> 1.155654 | AD18: =G18 -> 0.71855859 | AE18: =AD18-AD17 -> 0.26844997 | AF18: =IF(AB18=AB17,0,AE18/(AB18-AB17)*AC18) -> 2.3585022 | AG18: =AL18*AE18/100 -> 0.2592871 | AH18: =AH17+AG18 -> 0.69766913 | AI18: =IF(F18=F17,0,AG18/(F18-F17)*H18) -> 2.2780006 | AJ18: =50*(1+EXP(-0.06*AC18)) -> 96.650505 | AK18: =1-LOGNORMDIST(AC18,LN(M),LN(S)) -> 0.99934035 | AL18: =AK18*AJ18 -> 96.58675 | AN18: =(H18/1000000)^2*(rs-rm)*9.81/(18*n*0.001) -> 9.4352445e-07 | AO18: =AN18*AO$5 -> 0.0053767753 | AP18: =IF(AO18<h,(h-AO18)/h,0) -> 0.94623225 | AQ18: =I18*AP18*h/HH -> 0.11546183 | AR18: =AP18*100 -> 94.623225 | AS18: =I18*AP18 -> 0.25401602 | AT18: =AT17+AS18 -> 0.68938706 | AU18: =IF(F18=F17,0,AS18/(F18-F17)*H18) -> 2.2316908
B19: =IF(AND((G19-B$6)*(G18-B$6)<=0,ISNUMBER(SWeRF!C20)),(F18+(B$6-G18)*(F19-F18)/(G19-G18)),0) -> 0 | C19: =IF(AND((G19-C$6)*(G18-C$6)<=0,ISNUMBER(SWeRF!C20)),(F18+(C$6-G18)*(F19-F18)/(G19-G18)),0) -> 0 | D19: =IF(AND((G19-D$6)*(G18-D$6)<=0,ISNUMBER(SWeRF!C20)),(F18+(D$6-G18)*(F19-F18)/(G19-G18)),0) -> 0 | E19: =IF(AND((G19-E$6)*(G18-E$6)<=0,ISNUMBER(SWeRF!C20)),(F18+(E$6-G18)*(F19-F18)/(G19-G18)),0) -> 0 | F19: =IF(ISNUMBER(SWeRF!C20),SWeRF!C20,F18) -> 0.83642415 | G19: =IF(ISNUMBER(SWeRF!D20),SWeRF!D20,G18) -> 1.0914872 | H19: =SQRT(F19*F18) -> 0.79280643 | I19: =G19-G18 -> 0.37292862 | J19: =IF(H19=0,0,I19/H19) -> 0.47039051 | K19: =IF(F19=F18,0,I19/(F19-F18)*H19) -> 3.4799579 | M19: =F19*SQRT(N$3/1000) -> 1.7544981 | N19: =H19*SQRT(N$3/1000) -> 1.6630048 | O19: =G19 -> 1.0914872 | P19: =O19-O18 -> 0.37292862 | Q19: =IF(M19=M18,0,P19/(M19-M18)*N19) -> 3.4799579 | R19: =W19*P19/100 -> 0.35155158 | S19: =S18+R19 -> 1.0420078 | T19: =IF(F19=F18,0,R19/(F19-F18)*H19) -> 3.2804796 | U19: =50*(1+EXP(-0.06*N19)) -> 95.251812 | V19: =1-LOGNORMDIST(N19,LN(M),LN(S)) -> 0.98966929 | W19: =V19*U19 -> 94.267794 | X19: =50*(1+EXP(-0.06*M19)) -> 95.004079 | Y19: =1-LOGNORMDIST(M19,LN(M),LN(S)) -> 0.98544626 | Z19: =Y19*X19 -> 93.621414 | AB19: =F19*SQRT(AC$3/1000) -> 1.3615999 | AC19: =SQRT(AB19*AB18) -> 1.2905954 | AD19: =G19 -> 1.0914872 | AE19: =AD19-AD18 -> 0.37292862 | AF19: =IF(AB19=AB18,0,AE19/(AB19-AB18)*AC19) -> 3.4799579 | AG19: =AL19*AE19/100 -> 0.35844413 | AH19: =AH18+AG19 -> 1.0561133 | AI19: =IF(F19=F18,0,AG19/(F19-F18)*H19) -> 3.3447969 | AJ19: =50*(1+EXP(-0.06*AC19)) -> 96.274326 | AK19: =1-LOGNORMDIST(AC19,LN(M),LN(S)) -> 0.99835564 | AL19: =AK19*AJ19 -> 96.116016 | AN19: =(H19/1000000)^2*(rs-rm)*9.81/(18*n*0.001) -> 1.1767323e-06 | AO19: =AN19*AO$5 -> 0.0067057353 | AP19: =IF(AO19<h,(h-AO19)/h,0) -> 0.93294265 | AQ19: =I19*AP19*h/HH -> 0.15814592 | AR19: =AP19*100 -> 93.294265 | AS19: =I19*AP19 -> 0.34792102 | AT19: =AT18+AS19 -> 1.0373081 | AU19: =IF(F19=F18,0,AS19/(F19-F18)*H19) -> 3.2466012
B20: =IF(AND((G20-B$6)*(G19-B$6)<=0,ISNUMBER(SWeRF!C21)),(F19+(B$6-G19)*(F20-F19)/(G20-G19)),0) -> 0 | C20: =IF(AND((G20-C$6)*(G19-C$6)<=0,ISNUMBER(SWeRF!C21)),(F19+(C$6-G19)*(F20-F19)/(G20-G19)),0) -> 0 | D20: =IF(AND((G20-D$6)*(G19-D$6)<=0,ISNUMBER(SWeRF!C21)),(F19+(D$6-G19)*(F20-F19)/(G20-G19)),0) -> 0 | E20: =IF(AND((G20-E$6)*(G19-E$6)<=0,ISNUMBER(SWeRF!C21)),(F19+(E$6-G19)*(F20-F19)/(G20-G19)),0) -> 0 | F20: =IF(ISNUMBER(SWeRF!C21),SWeRF!C21,F19) -> 0.92575588 | G20: =IF(ISNUMBER(SWeRF!D21),SWeRF!D21,G19) -> 1.5899818 | H20: =SQRT(F20*F19) -> 0.87995714 | I20: =G20-G19 -> 0.49849458 | J20: =IF(H20=0,0,I20/H20) -> 0.5664987 | K20: =IF(F20=F19,0,I20/(F20-F19)*H20) -> 4.9103922 | M20: =F20*SQRT(N$3/1000) -> 1.9418819 | N20: =H20*SQRT(N$3/1000) -> 1.8458137 | O20: =G20 -> 1.5899818 | P20: =O20-O19 -> 0.49849458 | Q20: =IF(M20=M19,0,P20/(M20-M19)*N20) -> 4.9103922 | R20: =W20*P20/100 -> 0.46298879 | S20: =S19+R20 -> 1.5049966 | T20: =IF(F20=F19,0,R20/(F20-F19)*H20) -> 4.5606445 | U20: =50*(1+EXP(-0.06*N20)) -> 94.758178 | V20: =1-LOGNORMDIST(N20,LN(M),LN(S)) -> 0.98015179 | W20: =V20*U20 -> 92.877398 | X20: =50*(1+EXP(-0.06*M20)) -> 94.50093 | Y20: =1-LOGNORMDIST(M20,LN(M),LN(S)) -> 0.97330545 | Z20: =Y20*X20 -> 91.978271 | AB20: =F20*SQRT(AC$3/1000) -> 1.5070214 | AC20: =SQRT(AB20*AB19) -> 1.4324664 | AD20: =G20 -> 1.5899818 | AE20: =AD20-AD19 -> 0.49849458 | AF20: =IF(AB20=AB19,0,AE20/(AB20-AB19)*AC20) -> 4.9103922 | AG20: =AL20*AE20/100 -> 0.47621892 | AH20: =AH19+AG20 -> 1.5323322 | AI20: =IF(F20=F19,0,AG20/(F20-F19)*H20) -> 4.6909671 | AJ20: =50*(1+EXP(-0.06*AC20)) -> 95.882098 | AK20: =1-LOGNORMDIST(AC20,LN(M),LN(S)) -> 0.99634255 | AL20: =AK20*AJ20 -> 95.531414 | AN20: =(H20/1000000)^2*(rs-rm)*9.81/(18*n*0.001) -> 1.4496608e-06 | AO20: =AN20*AO$5 -> 0.0082610474 | AP20: =IF(AO20<h,(h-AO20)/h,0) -> 0.91738953 | AQ20: =I20*AP20*h/HH -> 0.20786986 | AR20: =AP20*100 -> 91.738953 | AS20: =I20*AP20 -> 0.4573137 | AT20: =AT19+AS20 -> 1.4946218 | AU20: =IF(F20=F19,0,AS20/(F20-F19)*H20) -> 4.5047424
B21: =IF(AND((G21-B$6)*(G20-B$6)<=0,ISNUMBER(SWeRF!C22)),(F20+(B$6-G20)*(F21-F20)/(G21-G20)),0) -> 0 | C21: =IF(AND((G21-C$6)*(G20-C$6)<=0,ISNUMBER(SWeRF!C22)),(F20+(C$6-G20)*(F21-F20)/(G21-G20)),0) -> 0 | D21: =IF(AND((G21-D$6)*(G20-D$6)<=0,ISNUMBER(SWeRF!C22)),(F20+(D$6-G20)*(F21-F20)/(G21-G20)),0) -> 0 | E21: =IF(AND((G21-E$6)*(G20-E$6)<=0,ISNUMBER(SWeRF!C22)),(F20+(E$6-G20)*(F21-F20)/(G21-G20)),0) -> 0 | F21: =IF(ISNUMBER(SWeRF!C22),SWeRF!C22,F20) -> 1.0196834 | G21: =IF(ISNUMBER(SWeRF!D22),SWeRF!D22,G20) -> 2.2348083 | H21: =SQRT(F21*F20) -> 0.97158524 | I21: =G21-G20 -> 0.64482649 | J21: =IF(H21=0,0,I21/H21) -> 0.66368494 | K21: =IF(F21=F20,0,I21/(F21-F20)*H21) -> 6.6700809 | M21: =F21*SQRT(N$3/1000) -> 2.1389059 | N21: =H21*SQRT(N$3/1000) -> 2.0380144 | O21: =G21 -> 2.2348083 | P21: =O21-O20 -> 0.64482649 | Q21: =IF(M21=M20,0,P21/(M21-M20)*N21) -> 6.6700809 | R21: =W21*P21/100 -> 0.58647857 | S21: =S20+R21 -> 2.0914752 | T21: =IF(F21=F20,0,R21/(F21-F20)*H21) -> 6.0665305 | U21: =50*(1+EXP(-0.06*N21)) -> 94.24499 | V21: =1-LOGNORMDIST(N21,LN(M),LN(S)) -> 0.96505265 | W21: =V21*U21 -> 90.951377 | X21: =50*(1+EXP(-0.06*M21)) -> 93.977962 | Y21: =1-LOGNORMDIST(M21,LN(M),LN(S)) -> 0.95481266 | Z21: =Y21*X21 -> 89.731348 | AB21: =F21*SQRT(AC$3/1000) -> 1.6599243 | AC21: =SQRT(AB21*AB20) -> 1.5816262 | AD21: =G21 -> 2.2348083 | AE21: =AD21-AD20 -> 0.64482649 | AF21: =IF(AB21=AB20,0,AE21/(AB21-AB20)*AC21) -> 6.6700809 | AG21: =AL21*AE21/100 -> 0.61108924 | AH21: =AH20+AG21 -> 2.1434214 | AI21: =IF(F21=F20,0,AG21/(F21-F20)*H21) -> 6.321103 | AJ21: =50*(1+EXP(-0.06*AC21)) -> 95.473304 | AK21: =1-LOGNORMDIST(AC21,LN(M),LN(S)) -> 0.99261267 | AL21: =AK21*AJ21 -> 94.768011 | AN21: =(H21/1000000)^2*(rs-rm)*9.81/(18*n*0.001) -> 1.7672792e-06 | AO21: =AN21*AO$5 -> 0.01007103 | AP21: =IF(AO21<h,(h-AO21)/h,0) -> 0.8992897 | AQ21: =I21*AP21*h/HH -> 0.26358446 | AR21: =AP21*100 -> 89.92897 | AS21: =I21*AP21 -> 0.57988582 | AT21: =AT20+AS21 -> 2.0745076 | AU21: =IF(F21=F20,0,AS21/(F21-F20)*H21) -> 5.9983351
... B108: =IF(AND((G108-B$6)*(G107-B$6)<=0,ISNUMBER(SWeRF!C109)),(F107+(B$6-G107)*(F108-F107)/(G108-G107)),0) -> 0 | C108: =IF(AND((G108-C$6)*(G107-C$6)<=0,ISNUMBER(SWeRF!C109)),(F107+(C$6-G107)*(F108-F107)/(G108-G107)),0) -> 0 | D108: =IF(AND((G108-D$6)*(G107-D$6)<=0,ISNUMBER(SWeRF!C109)),(F107+(D$6-G107)*(F108-F107)/(G108-G107)),0) -> 0 | E108: =IF(AND((G108-E$6)*(G107-E$6)<=0,ISNUMBER(SWeRF!C109)),(F107+(E$6-G107)*(F108-F107)/(G108-G107)),0) -> 0 | F108: =IF(ISNUMBER(SWeRF!C109),SWeRF!C109,F107) -> 150 | G108: =IF(ISNUMBER(SWeRF!D109),SWeRF!D109,G107) -> 99.99999 | H108: =SQRT(F108*F107) -> 146.26175 | I108: =G108-G107 -> 4.9106568e-06 | J108: =IF(H108=0,0,I108/H108) -> 3.3574442e-08 | K108: =IF(F108=F107,0,I108/(F108-F107)*H108) -> 9.7278764e-05 | M108: =F108*SQRT(N$3/1000) -> 314.64265 | N108: =H108*SQRT(N$3/1000) -> 306.80124 | O108: =G108 -> 99.99999 | P108: =O108-O107 -> 4.9106568e-06 | Q108: =IF(M108=M107,0,P108/(M108-M107)*N108) -> 9.7278764e-05 | R108: =W108*P108/100 -> 0 | S108: =S107+R108 -> 17.017601 | T108: =IF(F108=F107,0,R108/(F108-F107)*H108) -> 0 | U108: =50*(1+EXP(-0.06*N108)) -> 50.000001 | V108: =1-LOGNORMDIST(N108,LN(M),LN(S)) -> 0 | W108: =V108*U108 -> 0 | X108: =50*(1+EXP(-0.06*M108)) -> 50 | Y108: =1-LOGNORMDIST(M108,LN(M),LN(S)) -> 0 | Z108: =Y108*X108 -> 0 | AB108: =F108*SQRT(AC$3/1000) -> 244.18231 | AC108: =SQRT(AB108*AB107) -> 238.09688 | AD108: =G108 -> 99.99999 | AE108: =AD108-AD107 -> 4.9106568e-06 | AF108: =IF(AB108=AB107,0,AE108/(AB108-AB107)*AC108) -> 9.7278764e-05 | AG108: =AL108*AE108/100 -> 0 | AH108: =AH107+AG108 -> 25.9569 | AI108: =IF(F108=F107,0,AG108/(F108-F107)*H108) -> 0 | AJ108: =50*(1+EXP(-0.06*AC108)) -> 50.000031 | AK108: =1-LOGNORMDIST(AC108,LN(M),LN(S)) -> 0 | AL108: =AK108*AJ108 -> 0 | AN108: =(H108/1000000)^2*(rs-rm)*9.81/(18*n*0.001) -> 0.040050219 | AO108: =AN108*AO$5 -> 228.23047 | AP108: =IF(AO108<h,(h-AO108)/h,0) -> 0 | AQ108: =I108*AP108*h/HH -> 0 | AR108: =AP108*100 -> 0 | AS108: =I108*AP108 -> 0 | AT108: =AT107+AS108 -> 17.098851 | AU108: =IF(F108=F107,0,AS108/(F108-F107)*H108) -> 0
B109: =IF(AND((G109-B$6)*(G108-B$6)<=0,ISNUMBER(SWeRF!#REF!)),(F108+(B$6-G108)*(F109-F108)/(G109-G108)),0) -> 0 | C109: =IF(AND((G109-C$6)*(G108-C$6)<=0,ISNUMBER(SWeRF!#REF!)),(F108+(C$6-G108)*(F109-F108)/(G109-G108)),0) -> 0 | D109: =IF(AND((G109-D$6)*(G108-D$6)<=0,ISNUMBER(SWeRF!#REF!)),(F108+(D$6-G108)*(F109-F108)/(G109-G108)),0) -> 0 | E109: =IF(AND((G109-E$6)*(G108-E$6)<=0,ISNUMBER(SWeRF!#REF!)),(F108+(E$6-G108)*(F109-F108)/(G109-G108)),0) -> 0 | F109: =IF(ISNUMBER(SWeRF!#REF!),SWeRF!#REF!,F108) -> 150 | G109: =IF(ISNUMBER(SWeRF!#REF!),SWeRF!#REF!,G108) -> 99.99999 | H109: =SQRT(F109*F108) -> 150 | I109: =G109-G108 -> 0 | J109: =IF(H109=0,0,I109/H109) -> 0 | K109: =IF(F109=F108,0,I109/(F109-F108)*H109) -> 0 | M109: =F109*SQRT(N$3/1000) -> 314.64265 | N109: =H109*SQRT(N$3/1000) -> 314.64265 | O109: =G109 -> 99.99999 | P109: =O109-O108 -> 0 | Q109: =IF(M109=M108,0,P109/(M109-M108)*N109) -> 0 | R109: =W109*P109/100 -> 0 | S109: =S108+R109 -> 17.017601 | T109: =IF(F109=F108,0,R109/(F109-F108)*H109) -> 0 | U109: =50*(1+EXP(-0.06*N109)) -> 50 | V109: =1-LOGNORMDIST(N109,LN(M),LN(S)) -> 0 | W109: =V109*U109 -> 0 | X109: =50*(1+EXP(-0.06*M109)) -> 50 | Y109: =1-LOGNORMDIST(M109,LN(M),LN(S)) -> 0 | Z109: =Y109*X109 -> 0 | AB109: =F109*SQRT(AC$3/1000) -> 244.18231 | AC109: =SQRT(AB109*AB108) -> 244.18231 | AD109: =G109 -> 99.99999 | AE109: =AD109-AD108 -> 0 | AF109: =IF(AB109=AB108,0,AE109/(AB109-AB108)*AC109) -> 0 | AG109: =AL109*AE109/100 -> 0 | AH109: =AH108+AG109 -> 25.9569 | AI109: =IF(F109=F108,0,AG109/(F109-F108)*H109) -> 0 | AJ109: =50*(1+EXP(-0.06*AC109)) -> 50.000022 | AK109: =1-LOGNORMDIST(AC109,LN(M),LN(S)) -> 0 | AL109: =AK109*AJ109 -> 0 | AN109: =(H109/1000000)^2*(rs-rm)*9.81/(18*n*0.001) -> 0.042123637 | AO109: =AN109*AO$5 -> 240.04607 | AP109: =IF(AO109<h,(h-AO109)/h,0) -> 0 | AQ109: =I109*AP109*h/HH -> 0 | AR109: =AP109*100 -> 0 | AS109: =I109*AP109 -> 0 | AT109: =AT108+AS109 -> 17.098851 | AU109: =IF(F109=F108,0,AS109/(F109-F108)*H109) -> 0
B110: =IF(AND((G110-B$6)*(G109-B$6)<=0,ISNUMBER(SWeRF!C110)),(F109+(B$6-G109)*(F110-F109)/(G110-G109)),0) -> 0 | C110: =IF(AND((G110-C$6)*(G109-C$6)<=0,ISNUMBER(SWeRF!C110)),(F109+(C$6-G109)*(F110-F109)/(G110-G109)),0) -> 0 | D110: =IF(AND((G110-D$6)*(G109-D$6)<=0,ISNUMBER(SWeRF!C110)),(F109+(D$6-G109)*(F110-F109)/(G110-G109)),0) -> 0 | E110: =IF(AND((G110-E$6)*(G109-E$6)<=0,ISNUMBER(SWeRF!C110)),(F109+(E$6-G109)*(F110-F109)/(G110-G109)),0) -> 0 | F110: =IF(ISNUMBER(SWeRF!C110),SWeRF!C110,F109) -> 150 | G110: =IF(ISNUMBER(SWeRF!D110),SWeRF!D110,G109) -> 99.99999 | H110: =SQRT(F110*F109) -> 150 | I110: =G110-G109 -> 0 | J110: =IF(H110=0,0,I110/H110) -> 0 | K110: =IF(F110=F109,0,I110/(F110-F109)*H110) -> 0 | M110: =F110*SQRT(N$3/1000) -> 314.64265 | N110: =H110*SQRT(N$3/1000) -> 314.64265 | O110: =G110 -> 99.99999 | P110: =O110-O109 -> 0 | Q110: =IF(M110=M109,0,P110/(M110-M109)*N110) -> 0 | R110: =W110*P110/100 -> 0 | S110: =S109+R110 -> 17.017601 | T110: =IF(F110=F109,0,R110/(F110-F109)*H110) -> 0 | U110: =50*(1+EXP(-0.06*N110)) -> 50 | V110: =1-LOGNORMDIST(N110,LN(M),LN(S)) -> 0 | W110: =V110*U110 -> 0 | X110: =50*(1+EXP(-0.06*M110)) -> 50 | Y110: =1-LOGNORMDIST(M110,LN(M),LN(S)) -> 0 | Z110: =Y110*X110 -> 0 | AB110: =F110*SQRT(AC$3/1000) -> 244.18231 | AC110: =SQRT(AB110*AB109) -> 244.18231 | AD110: =G110 -> 99.99999 | AE110: =AD110-AD109 -> 0 | AF110: =IF(AB110=AB109,0,AE110/(AB110-AB109)*AC110) -> 0 | AG110: =AL110*AE110/100 -> 0 | AH110: =AH109+AG110 -> 25.9569 | AI110: =IF(F110=F109,0,AG110/(F110-F109)*H110) -> 0 | AJ110: =50*(1+EXP(-0.06*AC110)) -> 50.000022 | AK110: =1-LOGNORMDIST(AC110,LN(M),LN(S)) -> 0 | AL110: =AK110*AJ110 -> 0 | AN110: =(H110/1000000)^2*(rs-rm)*9.81/(18*n*0.001) -> 0.042123637 | AO110: =AN110*AO$5 -> 240.04607 | AP110: =IF(AO110<h,(h-AO110)/h,0) -> 0 | AQ110: =I110*AP110*h/HH -> 0 | AR110: =AP110*100 -> 0 | AS110: =I110*AP110 -> 0 | AT110: =AT109+AS110 -> 17.098851 | AU110: =IF(F110=F109,0,AS110/(F110-F109)*H110) -> 0
B111: =MAX(B9:B110) -> 4.1006066 | C111: =MAX(C9:C110) -> 1.6863058 | D111: =MAX(D9:D110) -> 4.1006066 | E111: =MAX(E9:E110) -> 9.977537 | I111: =SUM(I9:I110) -> 99.99999 | J111: =6*SUM(J9:J110)/100 -> 1.86188 | P111: =SUM(P9:P110) -> 99.99999 | R111: =SUM(R9:R110) -> 17.017601 | AE111: =SUM(AE9:AE110) -> 99.99999 | AG111: =SUM(AG9:AG110) -> 25.9569 | AQ111: =SUM(AQ9:AQ110) -> 7.772205 | AS111: =SUM(AS9:AS110) -> 17.098851
